BEGIN:VCALENDAR
VERSION:2.0
PRODID:-//eventon.com NONSGML v1.0//EN
CALSCALE:GREGORIAN
METHOD:PUBLISH
BEGIN:VEVENT
UID:69e6bdfa0e3b9
DTSTAMP:20260420T235954Z
DTSTART:20260212
DTEND:20260213
LOCATION:
SUMMARY:Office Closed - Lincoln's Birthday (Holiday)
DESCRIPTION:Office Closed - Lincoln's Birthday (Holiday)\nhttps://cunyba.cu
 ny.edu/events/office-closed-lincolns-birthday-holiday-3/
URL:https://cunyba.cuny.edu/events/office-closed-lincolns-birthday-holiday-3/
END:VEVENT
END:VCALENDAR