BEGIN:VCALENDAR
VERSION:2.0
PRODID:-//eventon.com NONSGML v1.0//EN
CALSCALE:GREGORIAN
METHOD:PUBLISH
BEGIN:VEVENT
UID:69e698d8a638d
DTSTAMP:20260420T212128Z
DTSTART:20250604T103000Z
DTEND:20250604T235000Z
LOCATION:Proshansky Auditorium at The Graduate Center\,  CUNY 365 Fifth Avenue
SUMMARY:CUNY BA 2025 Commencement
DESCRIPTION:CUNY BA Office will be closed all day. Attendees\,  please be s
 ure to bring your tickets.\nhttps://cunyba.cuny.edu/events/cuny-ba-2025-com
 mencement/
URL:https://cunyba.cuny.edu/events/cuny-ba-2025-commencement/
END:VEVENT
END:VCALENDAR