BEGIN:VCALENDAR
VERSION:2.0
PRODID:-//eventon.com NONSGML v1.0//EN
CALSCALE:GREGORIAN
METHOD:PUBLISH
BEGIN:VEVENT
UID:69e69b7c6b740
DTSTAMP:20260420T213244Z
DTSTART:20250409T140000Z
DTEND:20250409T235000Z
LOCATION:ONLINE
SUMMARY:DESIGN A UNIQUE DEGREE IN CUNY WITH CUNY BA - INFO SESSION ON APRIL 9
DESCRIPTION:DATE: Wednesday\,  April 9th TIME:  2 PM WHERE: Online via Zoo
 m SIGN UP: Info Session Registration  Design a unique degree in CUNY with 
 CUNY BA WHAT IS CUNY BACCALAUREATE (CUNY BA)? CUNY BA is an Interdisciplina
 ry Studies program that works within the CUNY college system. It has been
  around for over fifty years![..]\nhttps://cunyba.cuny.edu/events/interdis
 ciplinary-studies-2/
URL:https://cunyba.cuny.edu/events/interdisciplinary-studies-2/
END:VEVENT
END:VCALENDAR