BEGIN:VCALENDAR
VERSION:2.0
PRODID:-//eventon.com NONSGML v1.0//EN
CALSCALE:GREGORIAN
METHOD:PUBLISH
BEGIN:VEVENT
UID:69e722ddc847d
DTSTAMP:20260421T071021Z
DTSTART:20250207T120000Z
DTEND:20250207T133000Z
LOCATION:ONLINE
SUMMARY:ONLINE EVENT: Study Abroad Workshop on Feb 7
DESCRIPTION:If you want to Study Abroad while being a CUNY BA student\,  si
 gn up for this workshop: WHO: CUNY BA Senior Academic Advisor and Internati
 onal Education Liaison WHAT: Join CUNY BA Senior Academic Advisor and Inter
 national Education Liaison\,  Kate McPherson\,  to learn more about the opp
 ortunity to study abroad as[..]\nhttps://cunyba.cuny.edu/events/study-abroa
 d-workshop-sp25/
URL:https://cunyba.cuny.edu/events/study-abroad-workshop-sp25/
END:VEVENT
END:VCALENDAR