BEGIN:VCALENDAR
VERSION:2.0
PRODID:-//eventon.com NONSGML v1.0//EN
CALSCALE:GREGORIAN
METHOD:PUBLISH
BEGIN:VEVENT
UID:69e69b62801b8
DTSTAMP:20260420T213218Z
DTSTART:20240510T130000Z
DTEND:20240510T150000Z
LOCATION:
SUMMARY:Fifth Annual CUNY BA Student Showcase – May 10
DESCRIPTION:WHAT: Fifth Annual CUNY BA Student Showcase  DATE: Friday\, 
  May 10\,  2024 TIME: 1:00 PM – 4:00 PM WHERE: Room 8201.01 at the CUNY
  Graduate Center Mark your calendars! Our fifth annual Student Showcase a
 nd Senior Day will take place in person at the CUNY Graduate Center\,  8201
 \,  on Friday\,  May 10\,  2024. RSVP FOR THE CUNY[..]\nhttps://cunyba.cun
 y.edu/events/student-showcase-5/
URL:https://cunyba.cuny.edu/events/student-showcase-5/
END:VEVENT
END:VCALENDAR