BEGIN:VCALENDAR
VERSION:2.0
PRODID:-//eventon.com NONSGML v1.0//EN
CALSCALE:GREGORIAN
METHOD:PUBLISH
BEGIN:VEVENT
UID:69e67f955e037
DTSTAMP:20260420T193341Z
DTSTART:20240301T110000Z
DTEND:20240301T120000Z
LOCATION:ONLINE
SUMMARY:CUNY BA Peer Advising Workshop on Political Science - March 1
DESCRIPTION:WHO: CUNY BA Academic Advisor\,  Rafal Szczurowski WHAT: CUNY
  BA Peer Advising Session on Political Science and International Studies [L
 earn More] DATE: Friday\,  March 1\,  2024 TIME: 11 AM WHERE: Live on Zoo
 m. REGISTER FOR THE PEER ADVISING SESSION HERE  On Friday\,  March 1\,  at
  11 AM\,  CUNY BA is offering a peer advising[..]\nhttps://cunyba.cuny.edu/
 events/peer-advising/
URL:https://cunyba.cuny.edu/events/peer-advising/
END:VEVENT
END:VCALENDAR