BEGIN:VCALENDAR
VERSION:2.0
PRODID:-//eventon.com NONSGML v1.0//EN
CALSCALE:GREGORIAN
METHOD:PUBLISH
BEGIN:VEVENT
UID:69e68d2cdb958
DTSTAMP:20260420T203140Z
DTSTART:20240209T130000Z
DTEND:20240209T235000Z
LOCATION:ONLINE
SUMMARY:Study Abroad Workshop
DESCRIPTION:WHO: CUNY BA Senior Academic Advisor and International Educatio
 n Liaison WHAT: Join CUNY BA Senior Academic Advisor and International Educ
 ation Liaison\,  Kate McPherson\,  to learn more about the opportunity to s
 tudy abroad as a CUNY BA student. Topics covered will include: Identifying 
 programs and opportunities Working with your home campus[..]\nhttps://cunyb
 a.cuny.edu/events/study-abroad-workshop-3/
URL:https://cunyba.cuny.edu/events/study-abroad-workshop-3/
END:VEVENT
END:VCALENDAR