BEGIN:VCALENDAR
VERSION:2.0
PRODID:-//eventon.com NONSGML v1.0//EN
CALSCALE:GREGORIAN
METHOD:PUBLISH
BEGIN:VEVENT
UID:69e69b62bf4c8
DTSTAMP:20260420T213218Z
DTSTART:20240115
DTEND:20240116
LOCATION:
SUMMARY:Office Closed- Martin Luther King Jr. Day (Holiday)
DESCRIPTION:Office Closed- Martin Luther King Jr. Day (Holiday)\nhttps://cu
 nyba.cuny.edu/events/office-closed-martin-luther-king-jr-day-holiday-3/
URL:https://cunyba.cuny.edu/events/office-closed-martin-luther-king-jr-day-holiday-3/
END:VEVENT
END:VCALENDAR