BEGIN:VCALENDAR
VERSION:2.0
PRODID:-//eventon.com NONSGML v1.0//EN
CALSCALE:GREGORIAN
METHOD:PUBLISH
BEGIN:VEVENT
UID:69e6833aa1117
DTSTAMP:20260420T194914Z
DTSTART:20230914T123000Z
DTEND:20230914T133000Z
LOCATION:ONLINE
SUMMARY:ONLINE EVENT: CUNY BA Doctoral Fellows Roundtable Discussion
DESCRIPTION:CUNY BA Students\,  are you interested in interdisciplinary res
 earch projects and methods? Do you want to know how doctoral students condu
 ct research and navigate academic life? Join us for an informal roundtable 
 discussion led by CUNY BA Doctoral Fellows. The CUNY BA Doctoral Fellows 
 are current Ph.D. students at The Graduate Center\,  CUNY\, [..]\nhttps://
 cunyba.cuny.edu/events/fellows-roundtable/
URL:https://cunyba.cuny.edu/events/fellows-roundtable/
END:VEVENT
END:VCALENDAR