BEGIN:VCALENDAR
VERSION:2.0
PRODID:-//eventon.com NONSGML v1.0//EN
CALSCALE:GREGORIAN
METHOD:PUBLISH
BEGIN:VEVENT
UID:69e61aa285595
DTSTAMP:20260420T122258Z
DTSTART:20230301
DTEND:20230401
LOCATION:ONLINE
SUMMARY:Create Your Own Degree in CUNY - Info Session - March 7
DESCRIPTION:DATE: Tuesday\,  March 7\,  2023 TIME: 12:30 PM WHERE: Online v
 ia Zoom SIGN UP: Info Session Registration CUNY BA Virtual Information Sess
 ion for Fall 2023 Admissions\,  March 7 at 12:30 pm What is the CUNY Baccal
 aureate for Unique and Interdisciplinary Studies? CUNY Baccalaureate (CUNY 
 BA) offers highly motivated students who[..]\nhttps://cunyba.cuny.edu/event
 s/info-march-7/
URL:https://cunyba.cuny.edu/events/info-march-7/
END:VEVENT
END:VCALENDAR