BEGIN:VCALENDAR
VERSION:2.0
PRODID:-//eventon.com NONSGML v1.0//EN
CALSCALE:GREGORIAN
METHOD:PUBLISH
BEGIN:VEVENT
UID:69e686298e6c5
DTSTAMP:20260420T200145Z
DTSTART:20221212T170000Z
DTEND:20221212T235000Z
LOCATION:Virtual
SUMMARY:Virtual Information Session for Spring 2023 Admissions - Dec 12th
DESCRIPTION:CUNY BA Virtual Information Session for Spring 2023 Admissions\
 ,  December 12th\,  2022\,  at 5:00 PM. What is the CUNY Baccalaureate for 
 Unique and Interdisciplinary Studies? CUNY Baccalaureate (CUNY BA) offers h
 ighly motivated students who have unique academic and career goals the oppo
 rtunity to design their own Areas of Concentration (AOC)[..]\nhttps://cunyb
 a.cuny.edu/events/info-session-dec-12/
URL:https://cunyba.cuny.edu/events/info-session-dec-12/
END:VEVENT
END:VCALENDAR