BEGIN:VCALENDAR
VERSION:2.0
PRODID:-//eventon.com NONSGML v1.0//EN
CALSCALE:GREGORIAN
METHOD:PUBLISH
BEGIN:VEVENT
UID:69e6e2fcaa9cf
DTSTAMP:20260421T023748Z
DTSTART:20221124
DTEND:20221125
LOCATION:
SUMMARY:Office Closed - Thanksgiving Holiday
DESCRIPTION:Office Closed - Thanksgiving Holiday\nhttps://cunyba.cuny.edu/e
 vents/office-closed-thanksgiving-holiday-2/
URL:https://cunyba.cuny.edu/events/office-closed-thanksgiving-holiday-2/
END:VEVENT
END:VCALENDAR