BEGIN:VCALENDAR
VERSION:2.0
PRODID:-//eventon.com NONSGML v1.0//EN
CALSCALE:GREGORIAN
METHOD:PUBLISH
BEGIN:VEVENT
UID:69e6727bd8046
DTSTAMP:20260420T183747Z
DTSTART:20221010
DTEND:20221011
LOCATION:
SUMMARY:Office Closed - Holiday
DESCRIPTION:Office Closed - Holiday\nhttps://cunyba.cuny.edu/events/office-
 closed-holiday/
URL:https://cunyba.cuny.edu/events/office-closed-holiday/
END:VEVENT
END:VCALENDAR