BEGIN:VCALENDAR
VERSION:2.0
PRODID:-//eventon.com NONSGML v1.0//EN
CALSCALE:GREGORIAN
METHOD:PUBLISH
BEGIN:VEVENT
UID:69e673ba041a8
DTSTAMP:20260420T184306Z
DTSTART:20220922T100000Z
DTEND:20220922T235000Z
LOCATION:Virtual
SUMMARY:ONLINE WORKSHOP: Finding a Faculty Mentor - September 22
DESCRIPTION:Finding a Faculty Mentor Workshop On Thursday\,  September 22nd
  at 10 AM and Thursday\,  September 29th at 6 PM\,  CUNY BA is hosting virt
 ual workshops to help CUNY BA students find their faculty mentors. CUNY BA 
 Graduate Fellows and a CUNY BA Academic Advisor will lead a discussion duri
 ng the[..]\nhttps://cunyba.cuny.edu/events/finding-faculty-mentor-922/
URL:https://cunyba.cuny.edu/events/finding-faculty-mentor-922/
END:VEVENT
END:VCALENDAR