BEGIN:VCALENDAR
VERSION:2.0
PRODID:-//eventon.com NONSGML v1.0//EN
CALSCALE:GREGORIAN
METHOD:PUBLISH
BEGIN:VEVENT
UID:69e6bdfc15e80
DTSTAMP:20260420T235956Z
DTSTART:20220729
DTEND:20220730
LOCATION:
SUMMARY:Office Closed- Summer Schedule
DESCRIPTION:Office Closed- Summer Schedule\nhttps://cunyba.cuny.edu/events/
 office-closed-summer-schedule-12/
URL:https://cunyba.cuny.edu/events/office-closed-summer-schedule-12/
END:VEVENT
END:VCALENDAR