BEGIN:VCALENDAR
VERSION:2.0
PRODID:-//eventon.com NONSGML v1.0//EN
CALSCALE:GREGORIAN
METHOD:PUBLISH
BEGIN:VEVENT
UID:69e6da03ea2c2
DTSTAMP:20260421T015931Z
DTSTART:20220610T093000Z
DTEND:20220610T235000Z
LOCATION:CUNY Graduate Center 365 5th Ave\,  New York\,  NY 10016
SUMMARY:CUNY BA Commencement 2022 (Office Closed)
DESCRIPTION:Congratulations\,  your special day is coming soon! We&#8217;re
  thrilled to hold an in-person Commencement Ceremony this year at the Prosh
 ansky Auditorium at CUNY Graduate Center. We can&#8217;t wait to celebrate 
 our graduates with family\,  friends\,  and the CUNY BA community. Go to th
 e commencement page to register for the ceremony[..]\nhttps://cunyba.cuny.e
 du/events/commencement-2022/
URL:https://cunyba.cuny.edu/events/commencement-2022/
END:VEVENT
END:VCALENDAR