BEGIN:VCALENDAR
VERSION:2.0
PRODID:-//eventon.com NONSGML v1.0//EN
CALSCALE:GREGORIAN
METHOD:PUBLISH
BEGIN:VEVENT
UID:69e6891209b22
DTSTAMP:20260420T201410Z
DTSTART:20220117
DTEND:20220118
LOCATION:
SUMMARY:Office Closed- Martin Luther King Jr. Day (Holiday)
DESCRIPTION:Office Closed- Martin Luther King Jr. Day (Holiday)\nhttps://cu
 nyba.cuny.edu/events/office-closed-martin-luther-king-jr-day-holiday/
URL:https://cunyba.cuny.edu/events/office-closed-martin-luther-king-jr-day-holiday/
END:VEVENT
END:VCALENDAR