BEGIN:VCALENDAR
VERSION:2.0
PRODID:-//eventon.com NONSGML v1.0//EN
CALSCALE:GREGORIAN
METHOD:PUBLISH
BEGIN:VEVENT
UID:69e698d8a5f19
DTSTAMP:20260420T212128Z
DTSTART:20210730
DTEND:20210731
LOCATION:
SUMMARY:Office Closed- Summer Schedule
DESCRIPTION:Office Closed- Summer Schedule\nhttps://cunyba.cuny.edu/events/
 office-closed-730/
URL:https://cunyba.cuny.edu/events/office-closed-730/
END:VEVENT
END:VCALENDAR