BEGIN:VCALENDAR
VERSION:2.0
PRODID:-//eventon.com NONSGML v1.0//EN
CALSCALE:GREGORIAN
METHOD:PUBLISH
BEGIN:VEVENT
UID:69e698eac4cb9
DTSTAMP:20260420T212146Z
DTSTART:20210401
DTEND:20210501
LOCATION:ONLINE
SUMMARY:Life Experience Seminar 4/21
DESCRIPTION:This is for students who are currently enrolled in the CUNY
  Baccalaureate for Unique and Interdisciplinary Studies Program. Enrolled s
 tudents can pursue the life experience credit option when they have earned 
 between 45 and 90 credits. For students who sign up\,  zoom conference deta
 ils will be emailed one hour before the event. https://cunyba.cuny.edu/advi
 sing/life-experience/\nhttps://cunyba.cuny.edu/events/life-experience-semin
 ar-421/
URL:https://cunyba.cuny.edu/events/life-experience-seminar-421/
END:VEVENT
END:VCALENDAR