BEGIN:VCALENDAR
VERSION:2.0
PRODID:-//eventon.com NONSGML v1.0//EN
CALSCALE:GREGORIAN
METHOD:PUBLISH
BEGIN:VEVENT
UID:69e698ea81ffb
DTSTAMP:20260420T212146Z
DTSTART:20210415T123000Z
DTEND:20210415T235000Z
LOCATION:ONLINE
SUMMARY:CUNY BA Virtual Info Session April 15
DESCRIPTION:What is the CUNY Baccalaureate for Unique and Interdisciplinary
  Studies? CUNY Baccalaureate (CUNY BA) offers highly motivated students who
  have unique academic and career goals the opportunity to design their own 
 Areas of Concentration (AOC) (similar to majors) in collaboration with facu
 lty mentors. (You get to design your own major[..]\nhttps://cunyba.cuny.edu
 /events/virtual-info-session-415/
URL:https://cunyba.cuny.edu/events/virtual-info-session-415/
END:VEVENT
END:VCALENDAR