BEGIN:VCALENDAR
VERSION:2.0
PRODID:-//eventon.com NONSGML v1.0//EN
CALSCALE:GREGORIAN
METHOD:PUBLISH
BEGIN:VEVENT
UID:69e69925bb570
DTSTAMP:20260420T212245Z
DTSTART:20201005T123000Z
DTEND:20201005T235000Z
LOCATION:ONLINE
SUMMARY:Find a Faculty Mentor Workshop (For Current CUNY BA Students)
DESCRIPTION:Please join the CUNY BA Graduate Fellows and Advising Team for 
 a workshop on how to find a faculty mentor.  At this workshop\,  CUNY BA 
 Graduate Fellows and a CUNY BA Academic Advisor will lead the discussion re
 garding: → how to research faculty; → how to reach out to possible ment
 ors[..]\nhttps://cunyba.cuny.edu/events/faculty-mentor-workshops-2020/
URL:https://cunyba.cuny.edu/events/faculty-mentor-workshops-2020/
END:VEVENT
END:VCALENDAR