BEGIN:VCALENDAR
VERSION:2.0
PRODID:-//eventon.com NONSGML v1.0//EN
CALSCALE:GREGORIAN
METHOD:PUBLISH
BEGIN:VEVENT
UID:69e69925ad3ff
DTSTAMP:20260420T212245Z
DTSTART:20200710
DTEND:20200711
LOCATION:
SUMMARY:Office Closed- Summer Schedule
DESCRIPTION:Office Closed- Summer Schedule\nhttps://cunyba.cuny.edu/events/
 office-closed-summer-schedule-4/
URL:https://cunyba.cuny.edu/events/office-closed-summer-schedule-4/
END:VEVENT
END:VCALENDAR