BEGIN:VCALENDAR
VERSION:2.0
PRODID:-//eventon.com NONSGML v1.0//EN
CALSCALE:GREGORIAN
METHOD:PUBLISH
BEGIN:VEVENT
UID:69e6891209c86
DTSTAMP:20260420T201410Z
DTSTART:20200217
DTEND:20200218
LOCATION:CUNY BA at The Graduate Center\,  CUNY 365 Fifth Avenue\,  Room 6412
SUMMARY:Office Closed- President's Day Holiday
DESCRIPTION:Office Closed- President's Day Holiday\nhttps://cunyba.cuny.edu
 /events/office-closed-presidents-day-holiday/
URL:https://cunyba.cuny.edu/events/office-closed-presidents-day-holiday/
END:VEVENT
END:VCALENDAR