BEGIN:VCALENDAR
VERSION:2.0
PRODID:-//eventon.com NONSGML v1.0//EN
CALSCALE:GREGORIAN
METHOD:PUBLISH
BEGIN:VEVENT
UID:69e64e3adf599
DTSTAMP:20260420T160306Z
DTSTART:20191128
DTEND:20191129
LOCATION:
SUMMARY:Office Closed - Thanksgiving Holiday
DESCRIPTION:Office Closed - Thanksgiving Holiday\nhttps://cunyba.cuny.edu/e
 vents/office-closed-thanksgiving-holiday/
URL:https://cunyba.cuny.edu/events/office-closed-thanksgiving-holiday/
END:VEVENT
END:VCALENDAR